BEGIN:VCALENDAR
VERSION:2.0
PRODID:-//wp-events-plugin.com//7.2.3.1//EN
TZID:Europe/Berlin
X-WR-TIMEZONE:Europe/Berlin
BEGIN:VEVENT
UID:1@nrw.bvws.de
DTSTART;TZID=Europe/Berlin:20241012T110000
DTEND;TZID=Europe/Berlin:20241012T130000
DTSTAMP:20240828T074921Z
URL:https://nrw.bvws.de/events/wanderung-rund-um-den-bergerhof/
SUMMARY:Wanderung rund um den Bergerhof
DESCRIPTION:Unter dem Motto „Rund um den Bergerhof“ starten wir am 12.1
 0. im Bergischen Land in den Herbst.\nTreffpunkt: 11 Uhr Parkplatz Bergerh
 of (Hattingen)\n\nEs stehen 2 Strecken zur Verfügung. Eine Wanderung von 
 90 Minuten und für die Fuß/Rückenkranken und Welpen eine kürzere von 4
 5 Minuten. Also für jeden etwas dabei. Ob Kaffee und Kuchen oder etwas Wa
 rmes\, die Freilandgastronomie des Bergerhofs bietet nach der Wanderung ei
 n reichhaltiges Programm. Klönen und Erfahrungen austauschen steht an.\nE
 infach mal die Homepage ansehen www.bergerhof.de&nbsp\;\n\nInformationen z
 ur Anmeldung bitte dem Newsletter entnehmen.
CATEGORIES:LG NRW
LOCATION:Bergerhof\, Berger Weg 8\, Hattingen\, 45527\, Deutschland
X-APPLE-STRUCTURED-LOCATION;VALUE=URI;X-ADDRESS=Berger Weg 8\, Hattingen\, 
 45527\, Deutschland;X-APPLE-RADIUS=100;X-TITLE=Bergerhof:geo:0,0
END:VEVENT
BEGIN:VTIMEZONE
TZID:Europe/Berlin
X-LIC-LOCATION:Europe/Berlin
BEGIN:DAYLIGHT
DTSTART:20240331T030000
TZOFFSETFROM:+0100
TZOFFSETTO:+0200
TZNAME:CEST
END:DAYLIGHT
END:VTIMEZONE
END:VCALENDAR